BEGIN:VCALENDAR
VERSION:2.0
PRODID:-//Lymphedema Warriors Association Uganda (LWAU) - ECPv6.15.20//NONSGML v1.0//EN
CALSCALE:GREGORIAN
METHOD:PUBLISH
X-WR-CALNAME:Lymphedema Warriors Association Uganda (LWAU)
X-ORIGINAL-URL:https://www.lymphedemauganda.org
X-WR-CALDESC:Events for Lymphedema Warriors Association Uganda (LWAU)
REFRESH-INTERVAL;VALUE=DURATION:PT1H
X-Robots-Tag:noindex
X-PUBLISHED-TTL:PT1H
BEGIN:VTIMEZONE
TZID:UTC
BEGIN:STANDARD
TZOFFSETFROM:+0000
TZOFFSETTO:+0000
TZNAME:UTC
DTSTART:20230101T000000
END:STANDARD
END:VTIMEZONE
BEGIN:VEVENT
DTSTART;TZID=UTC:20250908T080000
DTEND;TZID=UTC:20250919T170000
DTSTAMP:20260423T200016
CREATED:20250411T090009Z
LAST-MODIFIED:20250623T080931Z
UID:2756-1757318400-1758301200@www.lymphedemauganda.org
SUMMARY:Lymphedema Medical Camps in Uganda
DESCRIPTION:Buvuma District\nDates: September 8th – 19th\, 2025\nDetails: Buvuma District\, consisting of 52 islands\, faces severe healthcare challenges due to geographical isolation and inadequate medical infrastructure. The district has only one Health Centre IV\, three Health Centre IIIs\, and eight Health Centre IIs\, which are insufficient for the population’s healthcare needs. Many residents must travel long distances by boat to access medical care on the mainland. This camp will provide critical medical support to the community. \nDeadlines for Volunteering and Donations\nSupply donation deadline: August 28th\, 2025\nVolunteer registration deadline: September 4th\, 2025
URL:https://www.lymphedemauganda.org/event/lymphedema-medical-camps-in-uganda/
LOCATION:Buvuma\, Uganda
CATEGORIES:Awareness,Medical Camp
ATTACH;FMTTYPE=image/jpeg:https://www.lymphedemauganda.org/wp-content/uploads/2025/04/Lymphedema-Warriors-poster_111257-scaled.jpg
END:VEVENT
BEGIN:VEVENT
DTSTART;VALUE=DATE:20250326
DTEND;VALUE=DATE:20250327
DTSTAMP:20260423T200016
CREATED:20250331T103107Z
LAST-MODIFIED:20250331T105648Z
UID:2720-1742947200-1743033599@www.lymphedemauganda.org
SUMMARY:World Lymphedema day
DESCRIPTION:First National World Lymphedema Day Celebrated At Bugema University\n \nBugema University became the focal point for the inaugural national celebration of World Lymphedema Day\, bringing together health professionals\, political leaders\, the Bugema community\, lymphedema patients\, and their families. The event aimed to raise awareness\, promote sensitization\, and combat the stigma surrounding this condition. The celebration featured vibrant singing and dancing\, along with powerful testimonials from lymphedema survivors. Kushaba Lawin\, an expert client and funder of the Lymphedema Warriors Association\, shared her personal journey and encouraged fellow patients to embrace their condition\, prioritize self-care\, and learn to live with it. “We patients must cooperate with healthcare providers\, adhering to their advice for our own well-being\,” she emphasized. Dr. Lukula\, the hospital in-charge\, unveiled the achievements so far in treating patents at Bugema University Hospital. “ we have held 20 successful surgeries sofar and treatment of over 300pateints across the country and Africa.” Professor Masiko Kafeero\, Vice Chancellor of Bugema University\, also known as Mr. Kuwaguza\, reaffirmed the university’s dedication to improving lymphedema healthcare.
URL:https://www.lymphedemauganda.org/event/world-lymphedema-day/
CATEGORIES:Awareness
ATTACH;FMTTYPE=image/jpeg:https://www.lymphedemauganda.org/wp-content/uploads/2025/03/WhatsApp-Image-2025-03-31-at-13.19.27-1.jpeg
END:VEVENT
BEGIN:VEVENT
DTSTART;VALUE=DATE:20240903
DTEND;VALUE=DATE:20240920
DTSTAMP:20260423T200016
CREATED:20240621T133429Z
LAST-MODIFIED:20240726T135336Z
UID:2366-1725321600-1726790399@www.lymphedemauganda.org
SUMMARY:Uganda Lymphedema Medical Camp
DESCRIPTION:Medical Camp Initiative \nJoin us in making a significant impact on the lives of lymphedema patients in Uganda. This September\, the Lymphedema Warriors Association Uganda\, together with Rural Health Promotion and Poverty Alleviation Initiative (RUHEPAI) and Bugema University Hospital\, are organizing a two-week medical and surgical camp. With the expertise of doctors from Germany\, we aim to provide essential medical care\, skill sharing\, and capacity building to those in need. We need your support to make this possible! \nLymphedema is a chronic condition that causes swelling and pain\, significantly impacting the quality of life of those affected. In Uganda\, access to specialized medical care for lymphedema patients is limited\, leaving many without the necessary treatment and support. This medical camp aims to address this gap by providing free medical and surgical care to underserved communities. \nOur team of dedicated healthcare professionals\, including doctors from Germany (Deggendorf Institute of Technology)\, will conduct a two-week medical and surgical camp in two locations this September. The camp will offer free medical check-ups\, surgeries\, and treatment for lymphedema patients. Additionally\, we will focus on skill sharing and capacity building\, ensuring local healthcare providers can continue supporting lymphedema patients long after the camp concludes. \nWe aim to raise $37\,897.43 to cover the costs of organizing and running the medical camp. Here’s a breakdown of how the funds will be used: \n\n$15\,000 for essential medical and surgical supplies\n$10\,000 for transportation and logistics to reach remote areas\n$5\,000 for accommodation and support for our volunteer doctors\n$3\,000 for educational materials and capacity building for local healthcare workers\n$4\,897.43 for contingency and unforeseen needs\n\n  \nYour kindness and generosity can bring hope and healing to those who need it most. Every contribution\, no matter the size\, makes a significant difference. Please\, donate today and help us spread the word by sharing our campaign with your friends and family \nThank you for taking the time to read our story and for your consideration. Together\, we can bring hope\, relief\, and a brighter future to lymphedema patients in Uganda. Your support means the world to us and to those whose lives you will touch \n  \nHow You Can Help \nYour support is crucial to the success of our medical camp. Here are ways you can contribute: \n\nDirect Donation: Click [here] to donate online.\nSponsorship: Sponsor specific items such as medical supplies or hygiene kits.\nSpread the Word: Share our mission with your network to help us reach more potential donors.
URL:https://www.lymphedemauganda.org/event/uganda-lymphedema-medical-camp/
LOCATION:Kamwenge District\, Rukunyu General Hospital
CATEGORIES:Awareness,Medical Camp
ATTACH;FMTTYPE=image/jpeg:https://www.lymphedemauganda.org/wp-content/uploads/2024/06/Lymphedema-Camp-2_034044-scaled.jpg
END:VEVENT
END:VCALENDAR